BEGIN:VCALENDAR
PRODID:-//Date iCal//NONSGML Brightspot CMS//
VERSION:2.0
METHOD:PUBLISH
BEGIN:VEVENT
DTSTAMP:20260423T235827Z
SUMMARY:Devotional: R. Kelly Haws and Connie Haws
UID:calendar.0000019d-b6ec-da05-adbf-feefa1d60001field_event_date.0@calendar.byu.edu
CREATED:20260422T205816Z
LAST-MODIFIED:20260422T205847Z
LOCATION:Cannon Activities Center
DTSTART;TZID=Pacific/Honolulu:20260505T110000
DTEND;TZID=Pacific/Honolulu:20260505T120000
SUMMARY:Devotional: R. Kelly Haws and Connie Haws
URL:https://speeches.byuh.edu/devotionals-and-lectures/devotional-r-kelly-haws-and-connie-haws-2026-05-05
END:VEVENT
BEGIN:VTIMEZONE
TZID:Pacific/Honolulu
TZURL:http://tzurl.org/zoneinfo/Pacific/Honolulu
X-LIC-LOCATION:Pacific/Honolulu
BEGIN:STANDARD
TZOFFSETFROM:-103126
TZOFFSETTO:-1030
TZNAME:HST
DTSTART:18960113T120000
RDATE:18960113T120000
END:STANDARD
BEGIN:DAYLIGHT
TZOFFSETFROM:-1030
TZOFFSETTO:-0930
TZNAME:HDT
DTSTART:19330430T020000
RDATE:19330430T020000
END:DAYLIGHT
BEGIN:STANDARD
TZOFFSETFROM:-0930
TZOFFSETTO:-1030
TZNAME:HST
DTSTART:19330521T120000
RDATE:19330521T120000
RDATE:19450930T020000
END:STANDARD
BEGIN:DAYLIGHT
TZOFFSETFROM:-1030
TZOFFSETTO:-0930
TZNAME:HWT
DTSTART:19420209T020000
RDATE:19420209T020000
END:DAYLIGHT
BEGIN:DAYLIGHT
TZOFFSETFROM:-0930
TZOFFSETTO:-0930
TZNAME:HPT
DTSTART:19450814T133000
RDATE:19450814T133000
END:DAYLIGHT
BEGIN:STANDARD
TZOFFSETFROM:-1030
TZOFFSETTO:-1000
TZNAME:HST
DTSTART:19470608T020000
RDATE:19470608T020000
END:STANDARD
END:VTIMEZONE
END:VCALENDAR
